BEGIN:VCALENDAR
PRODID:-//Det Danske Spejderkorps//NONSGML Gruppeweb//EN
VERSION:2.0
CALSCALE:GREGORIAN
X-PUBLISHED-TTL:PT1H
X-WR-CALNAME:Mikrobe
METHOD:PUBLISH
BEGIN:VEVENT
UID:gruppeweb.dk:2238:event:180
DTSTAMP:20260425T161707Z
LAST-MODIFIED:20250518T091854Z
SUMMARY:forårstur til Ganløse
DESCRIPTION:Vi hat lejet en spejder hytte ved Ganløse. Programmet er at vi
  deler os i  \ngrenene og særskilt laver program. \n\nVi mødes og afslu
 tter i Mørkhøj \n\nHusk madpakke og drikkedunk med saft.\n\nVi skal bru
 ge hjælp til transporten til og fra Ganløse. Ellers kommer vi  \nikke af
 sted. Send sms til blob med hvormange du har plads til og hvad for en  \na
 f dagene du gerne ville køre.  Du vil så få nærmere informationer  v
 ia  \nsms tirsdagen før turen. \n\n
URL:https://gyngespejderne.dk/begivenhed/foraarstur-til-ganloese-0
DTSTART:20250502T153000Z
DTEND:20250504T103000Z
LOCATION:Orekilde\, Mosevej 57\, 3660 Stenløse
END:VEVENT
BEGIN:VEVENT
UID:gruppeweb.dk:2238:event:179
DTSTAMP:20260425T161707Z
LAST-MODIFIED:20250805T164553Z
SUMMARY:Sommerlejr Halv
DESCRIPTION:Lederteamet vil invitere alle vores seje spejdere til Fyn i en 
 hytte som  \nhedder Ruedam \n\nVi afholder også  halvlejr fra onsdag o
 g lørdag det er familiespejd og  \nMikro spejdere. Alle de andre spejdere
  er også velkommen til halvlejr. Vi  \nlaver nogle andre ting på den fø
 rste halvdel\, på den måde når vi alle  \naldre grupper.  \n\nTranspo
 rt bliver i en lejret bus som vi selv kører. halvlejrer bliver enten  \nm
 ed bus eller tog\, hvor vi mødes på en station. \n\nSommerlejr møde er
  vigtig man møder op til hvor vi snakker om turen og  \nlommepenge skal f
 astsættes af jer forældre . Mødet bliver d. 16/6 kl. 17  \n15\n\nhytten
  adr. \n\nRuedam\nLangesøvej 172\n5462 Morud\n\n\n\n
URL:https://gyngespejderne.dk/begivenhed/sommerlejr-halv
DTSTART:20250702T080000Z
DTEND:20250705T100000Z
LOCATION:Ruedam\, Langesøvej 172\, 5462 Morud
END:VEVENT
BEGIN:VEVENT
UID:gruppeweb.dk:2238:event:210
DTSTAMP:20260425T161707Z
LAST-MODIFIED:20260208T074905Z
SUMMARY:GENERALFORSAMLING
DESCRIPTION:Dagsorden jf. Det Danske Spejderkorps’ vedtægter § 64\n\n\n
 \n1.     Valg af dirigent og referent\n\n\n\n2.     Fremlæggels
 e af bestyrelsens beretning\n/– herunder opfølgning på arbejdet med de
 n gældende udviklingsplan samt  \nopfølgning på det arbejde\, som besty
 relsen har udført på baggrund af  \nrådsmødets tidligere beslutninger.
 /\n\n\n\n3.     Fremlæggelse af årsregnskabet for til vedtagelse 
 /(det  \nforegående år)/\n\n\n\n/hvis man ønsker at se regnskabet inden
  mødet send venlig en mail til  \ngruppen. \n/\n\n\n\n4.     Behand
 ling af indkomne forslag\n\n\n\n\n \n\n\n5.     Fremlæggelse af udv
 iklingsplan til vedtagelse\n/Dette punkt medtages kun ved vedtagelse af ny
  udviklingsplan. De år\, hvor  \nen udviklingsplan ikke er til vedtagelse
 \, kan væsentlige ændringer af  \nudviklingsplanen eller en helt ny udvi
 klingsplan behandles\, hvis der stilles  \nforslag herom./\n\n\n\n6.   
   Fremlæggelse af budget\, herunder kontingent for det kommende år  \n
 til vedtagelse.\n/Jfr. § 62 stk. 3b. Budget for det følgende år samt 
 – for enheder –  \njusteret budget for indeværende år.\n/\n\n\n\n7.
      Fastsættelse af antal pladser i bestyrelsen.\n/Det skal ske und
 er hensyntagen til §66 stk. 2./\n/Bestyrelsen består som minimum af en f
 orperson og en kasserer samt mindst  \net yderligere medlem. Vær opmærks
 om på at man skal være fyldt 15 år\,  \nregler for habilitet samt princ
 ipper om diversitet jf. § 47-§51.  \nGrupperådet skal\, når det sammen
 sætter bestyrelsen\, tillige tilstræbe at  \nsåvel forældre\, unge spe
 jdere og spejderledere er ligeligt repræsenteret./\n\n\n\n8.     Val
 g til bestyrelsen /(gælder for en toårig periode)/\nValg af forperson M
 ikael ønsker at genopstille \n\n       Valg af en forældre  til be
 styrelsen \n\n       valg af leder i bestyrelsen Rikke ønsker at gen
 opstille \nValg af leder i bestyrelsen Christina F. ønsker at genopstill
 e \n\n\n\n\n\n9.     Evt. valg af søkyndigt medlem\nRosa og Thomas
  \n\n\n\n10.  Valg af revisor og evt. revisorsuppleant /(gælder for e
 n etårig  \nperiode)/\n\n\n\n11.  Valg af fem stemmeberettigede til div
 isionsrådet /(gælder for en  \netårig periode)//\n/\n\n12.  Valg af 
 to stemmeberettigede til korpsrådet /(gælder for en etårig  \nperiode)
 /\n\n\n\n\n13.  Eventuelt\n\n
URL:https://gyngespejderne.dk/begivenhed/generalforsamling-0
DTSTART:20260223T161500Z
DTEND:20260223T173000Z
LOCATION:Gyngespejderne\, Mørkhøj Parkalle 17\, 2860 Søborg
END:VEVENT
BEGIN:VEVENT
UID:gruppeweb.dk:2238:event:195
DTSTAMP:20260425T161707Z
LAST-MODIFIED:20260424T104827Z
SUMMARY:Gyngespejdernes forårstur
DESCRIPTION:Betaling sker ved konto samme vej som du betaler kontingent \n
 \n
URL:https://gyngespejderne.dk/begivenhed/gyngespejdernes-foraarstur
DTSTART:20260424T150000Z
DTEND:20260426T110000Z
LOCATION:Orekilde\, Mosevej 57\, 3660 Stenløse
END:VEVENT
BEGIN:VEVENT
UID:gruppeweb.dk:2238:event:203
DTSTAMP:20260425T161707Z
LAST-MODIFIED:20260228T170654Z
SUMMARY:Spejdernes lejr 2026
DESCRIPTION:\nSpejdernes lejr 2026 bliver et brag af en sommerlejr. \n\nLe
 jren afholdes i Hedeland\, samme sted som i 2022\, der er stadig mange tin
 g  \nsom skal på plads. Men vi ved at det bliver helt vildt fedt\, spejde
 re fra  \nalle 5 spejderkorps fra Danmark og udlandet deltager. \n\nSpejd
 ernes lejr afholdes hvert 5. år så denne begivenhed er værd at  \noverv
 eje.\n\nEn typisk sommerlejr uge:\n\nPå den første dag tager spejderen m
 ed bus fra et opsamlingspunkt til lejren  \nsammen med spejdergruppen. Nå
 r man kommer frem på lejren skal der rejses en  \nmasse telte og bygges l
 ejrplads med rafter mm.\n\nPå anden dagen vil der være et stort fælles 
 lejrbål sammen med resten af  \nlejren. \n\nDe resterende dage vil der v
 ære en masse aktiviteter sammen med den gren man  \ner i.\n\nMaden på le
 jren laver hver enkelt gruppe over bål på lejrpladsen.\n\nMidt på lejre
 n skal de som er på halv lejr sendes hjem og de store spejdere  \nfortsæ
 tter lejren indtil de skal hjem\, så skal lejren pakkes sammen og så  \n
 går turen hjemad.\n\nDet er stadig muligt at tilmelde sig til spejdernes 
 lejr\, dog vil vi gøre  \nopmærksom på at det koster 125\,- oven i pris
 en fra nu af.\n\n\n\n
URL:https://gyngespejderne.dk/begivenhed/spejdernes-lejr-2026
DTSTART:20260718T080000Z
DTEND:20260726T135100Z
LOCATION:Gyngespejderne\, Mørkhøj Parkalle 17\, 2860 Søborg
END:VEVENT
END:VCALENDAR
